BEGIN:VCALENDAR
VERSION:2.0
PRODID:-//VersAbility Resources - ECPv6.15.18//NONSGML v1.0//EN
CALSCALE:GREGORIAN
METHOD:PUBLISH
X-WR-CALNAME:VersAbility Resources
X-ORIGINAL-URL:https://versability.org
X-WR-CALDESC:Events for VersAbility Resources
REFRESH-INTERVAL;VALUE=DURATION:PT1H
X-Robots-Tag:noindex
X-PUBLISHED-TTL:PT1H
BEGIN:VTIMEZONE
TZID:America/New_York
BEGIN:DAYLIGHT
TZOFFSETFROM:-0500
TZOFFSETTO:-0400
TZNAME:EDT
DTSTART:20230312T070000
END:DAYLIGHT
BEGIN:STANDARD
TZOFFSETFROM:-0400
TZOFFSETTO:-0500
TZNAME:EST
DTSTART:20231105T060000
END:STANDARD
BEGIN:DAYLIGHT
TZOFFSETFROM:-0500
TZOFFSETTO:-0400
TZNAME:EDT
DTSTART:20240310T070000
END:DAYLIGHT
BEGIN:STANDARD
TZOFFSETFROM:-0400
TZOFFSETTO:-0500
TZNAME:EST
DTSTART:20241103T060000
END:STANDARD
BEGIN:DAYLIGHT
TZOFFSETFROM:-0500
TZOFFSETTO:-0400
TZNAME:EDT
DTSTART:20250309T070000
END:DAYLIGHT
BEGIN:STANDARD
TZOFFSETFROM:-0400
TZOFFSETTO:-0500
TZNAME:EST
DTSTART:20251102T060000
END:STANDARD
END:VTIMEZONE
BEGIN:VEVENT
DTSTART;VALUE=DATE:20240501
DTEND;VALUE=DATE:20240601
DTSTAMP:20260420T063154
CREATED:20240404T143306Z
LAST-MODIFIED:20240404T143613Z
UID:7202-1714521600-1717199999@versability.org
SUMMARY:Mobility Awareness Month
DESCRIPTION:Mobility awareness is about educating the public and policymakers about the benefits and challenges of mobility solutions and advocating for more accessibility and inclusion in all aspects of life.
URL:https://versability.org/event/mobility-awareness-month/
CATEGORIES:Awareness Events
ATTACH;FMTTYPE=image/jpeg:https://versability.org/wp-content/uploads/2023/12/AdobeStock_640480162-8027005-scaled.jpeg
END:VEVENT
BEGIN:VEVENT
DTSTART;TZID=America/New_York:20240529T173000
DTEND;TZID=America/New_York:20240529T200000
DTSTAMP:20260420T063154
CREATED:20240502T205021Z
LAST-MODIFIED:20240508T195810Z
UID:7238-1717003800-1717012800@versability.org
SUMMARY:Drink Beer (at Coastal Fermentory) and Do Good (for VersAbility)
DESCRIPTION:Come by Coastal Fermentory after the work day on Wednesday\, May 29\, 2024 and 10% of sales and 100% of tips will go directly to VersAbility Resources! Coastal Fermentory is located at 206 23rd Street in Newport News.
URL:https://versability.org/event/drink-beer-at-coastal-fermentory-and-do-good-for-versability/
LOCATION:Coastal Fermentory
CATEGORIES:Fundraiser
ATTACH;FMTTYPE=image/jpeg:https://versability.org/wp-content/uploads/2024/05/Versability_Drink-Beer-Do-Good_FB-EVENT-scaled.jpg
END:VEVENT
END:VCALENDAR