BEGIN:VCALENDAR
VERSION:2.0
PRODID:-//VersAbility Resources - ECPv6.15.18//NONSGML v1.0//EN
CALSCALE:GREGORIAN
METHOD:PUBLISH
X-ORIGINAL-URL:https://versability.org
X-WR-CALDESC:Events for VersAbility Resources
REFRESH-INTERVAL;VALUE=DURATION:PT1H
X-Robots-Tag:noindex
X-PUBLISHED-TTL:PT1H
BEGIN:VTIMEZONE
TZID:America/New_York
BEGIN:DAYLIGHT
TZOFFSETFROM:-0500
TZOFFSETTO:-0400
TZNAME:EDT
DTSTART:20250309T070000
END:DAYLIGHT
BEGIN:STANDARD
TZOFFSETFROM:-0400
TZOFFSETTO:-0500
TZNAME:EST
DTSTART:20251102T060000
END:STANDARD
BEGIN:DAYLIGHT
TZOFFSETFROM:-0500
TZOFFSETTO:-0400
TZNAME:EDT
DTSTART:20260308T070000
END:DAYLIGHT
BEGIN:STANDARD
TZOFFSETFROM:-0400
TZOFFSETTO:-0500
TZNAME:EST
DTSTART:20261101T060000
END:STANDARD
BEGIN:DAYLIGHT
TZOFFSETFROM:-0500
TZOFFSETTO:-0400
TZNAME:EDT
DTSTART:20270314T070000
END:DAYLIGHT
BEGIN:STANDARD
TZOFFSETFROM:-0400
TZOFFSETTO:-0500
TZNAME:EST
DTSTART:20271107T060000
END:STANDARD
END:VTIMEZONE
BEGIN:VEVENT
DTSTART;TZID=America/New_York:20260324T080000
DTEND;TZID=America/New_York:20260327T133000
DTSTAMP:20260425T063716
CREATED:20260210T194810Z
LAST-MODIFIED:20260210T195608Z
UID:8355-1774339200-1774618200@versability.org
SUMMARY:Forklift Certification Class - March
DESCRIPTION:This hands-on training program prepares people of all abilities with the skills and safety knowledge needed for careers in logistics\, warehousing\, and manufacturing. Participants earn both Forklift Certification and OSHA10 credentials through instructor-led training and real-world equipment experience. \n\n\n\nRegistration is now open for our classes March 24 – 27! \n\n\n\nSpots are limited to 10 participants per class. Sign up using the form and complete your payment to secure your seat. \n\n\n\nLearn more and register here.
URL:https://versability.org/event/forklift-certification-class-march/
LOCATION:VersAbility Hampton Office\, 2520 58th St.\, Hampton\, Virginia\, 23661\, United States
ATTACH;FMTTYPE=image/png:https://versability.org/wp-content/uploads/2026/02/Versability_Forklift_Cover-2.png
END:VEVENT
END:VCALENDAR