BEGIN:VCALENDAR
VERSION:2.0
PRODID:-//VersAbility Resources - ECPv6.15.18//NONSGML v1.0//EN
CALSCALE:GREGORIAN
METHOD:PUBLISH
X-WR-CALNAME:VersAbility Resources
X-ORIGINAL-URL:https://versability.org
X-WR-CALDESC:Events for VersAbility Resources
REFRESH-INTERVAL;VALUE=DURATION:PT1H
X-Robots-Tag:noindex
X-PUBLISHED-TTL:PT1H
BEGIN:VTIMEZONE
TZID:America/New_York
BEGIN:DAYLIGHT
TZOFFSETFROM:-0500
TZOFFSETTO:-0400
TZNAME:EDT
DTSTART:20250309T070000
END:DAYLIGHT
BEGIN:STANDARD
TZOFFSETFROM:-0400
TZOFFSETTO:-0500
TZNAME:EST
DTSTART:20251102T060000
END:STANDARD
BEGIN:DAYLIGHT
TZOFFSETFROM:-0500
TZOFFSETTO:-0400
TZNAME:EDT
DTSTART:20260308T070000
END:DAYLIGHT
BEGIN:STANDARD
TZOFFSETFROM:-0400
TZOFFSETTO:-0500
TZNAME:EST
DTSTART:20261101T060000
END:STANDARD
BEGIN:DAYLIGHT
TZOFFSETFROM:-0500
TZOFFSETTO:-0400
TZNAME:EDT
DTSTART:20270314T070000
END:DAYLIGHT
BEGIN:STANDARD
TZOFFSETFROM:-0400
TZOFFSETTO:-0500
TZNAME:EST
DTSTART:20271107T060000
END:STANDARD
END:VTIMEZONE
BEGIN:VEVENT
DTSTART;TZID=America/New_York:20260421T080000
DTEND;TZID=America/New_York:20260424T133000
DTSTAMP:20260423T074529
CREATED:20260210T195541Z
LAST-MODIFIED:20260210T195542Z
UID:8357-1776758400-1777037400@versability.org
SUMMARY:Forklift Certification Class - April
DESCRIPTION:This hands-on training program prepares people of all abilities with the skills and safety knowledge needed for careers in logistics\, warehousing\, and manufacturing. Participants earn both Forklift Certification and OSHA10 credentials through instructor-led training and real-world equipment experience. \n\n\n\nRegistration is now open for our classes April 21 – 24! \n\n\n\nSpots are limited to 10 participants per class. Sign up using the form and complete your payment to secure your seat. \n\n\n\nLearn more and registe here!
URL:https://versability.org/event/forklift-certification-class-april/
LOCATION:VersAbility Hampton Office\, 2520 58th St.\, Hampton\, Virginia\, 23661\, United States
ATTACH;FMTTYPE=image/png:https://versability.org/wp-content/uploads/2026/02/Versability_Forklift_Cover-3.png
END:VEVENT
BEGIN:VEVENT
DTSTART;TZID=America/New_York:20260424T080000
DTEND;TZID=America/New_York:20260426T170000
DTSTAMP:20260423T074529
CREATED:20260206T193610Z
LAST-MODIFIED:20260206T193612Z
UID:8330-1777017600-1777222800@versability.org
SUMMARY: USO Experience Virginia Beach 2026
DESCRIPTION:USO Experience Virginia Beach 2026 will take place April 24–26\, 2026. This three day event brings together social and educational activities designed to connect military service members with the local civilian community. \n\n\n\nThis year’s experience holds special significance as it celebrates the 250th Birthdays of the United States and the U.S. Navy\, honoring the legacy of service\, unity\, and shared commitment that has shaped our nation. \n\n\n\nUSO Experience Virginia Beach offers a meaningful platform to engage directly with service members and their families\, gain insight into their lives beyond the uniform\, and demonstrate continued community support. Our service members are not only defenders of our freedoms\, but also neighbors\, leaders\, and vital members of our shared community.
URL:https://versability.org/event/uso-experience-virginia-beach-2026/
CATEGORIES:Job Fairs
ATTACH;FMTTYPE=image/jpeg:https://versability.org/wp-content/uploads/2026/02/USO-Experience-Save-the-Date.jpg
END:VEVENT
BEGIN:VEVENT
DTSTART;TZID=America/New_York:20260425T100000
DTEND;TZID=America/New_York:20260425T150000
DTSTAMP:20260423T074529
CREATED:20260209T194046Z
LAST-MODIFIED:20260211T180447Z
UID:8333-1777111200-1777129200@versability.org
SUMMARY:Second Half Ministry Job Fair
DESCRIPTION:The Returning Citizens and Community Job Fair\, presented by Second Half Ministry of Gethsemane Baptist Church\, brings together employers\, workforce partners and community organizations for a day focused on opportunity\, connection and second chances. \n\n\n\nDesigned to support returning citizens and community members seeking employment\, the event provides direct access to hiring employers\, training programs and reentry resources that help individuals successfully transition into the workforce. Attendees will be able to explore job openings\, learn about career pathways and connect with supportive services in a welcoming\, empowerment-focused environment.
URL:https://versability.org/event/second-half-ministry-job-fair/
LOCATION:Gethsemane Baptist Church Transformation Place\, 5405 Roanoke Ave\, Newport News\, Virginia\, 23605\, United States
CATEGORIES:Job Fairs
ATTACH;FMTTYPE=image/png:https://versability.org/wp-content/uploads/2026/02/General-1.png
END:VEVENT
BEGIN:VEVENT
DTSTART;TZID=America/New_York:20260514T090000
DTEND;TZID=America/New_York:20260514T170000
DTSTAMP:20260423T074529
CREATED:20251120T173028Z
LAST-MODIFIED:20260422T180528Z
UID:8213-1778749200-1778778000@versability.org
SUMMARY:Ability Am 2026 Annual Golf Tournament
DESCRIPTION:Registration closes May 7!\n\n\n\n \n\n\n\n\n\n\n\n\n\n\n\n\nREGISTER HERE\n\n\n\nMORE INFO
URL:https://versability.org/event/ability-am-2026-annual-golf-tournament/
LOCATION:Cedar Point Club\, 8056 Clubhouse Drive\, Suffolk\, Virginia\, 23433\, United States
ATTACH;FMTTYPE=image/jpeg:https://versability.org/wp-content/uploads/2025/03/versability-golf-05-16-2024-07.jpg
END:VEVENT
BEGIN:VEVENT
DTSTART;TZID=America/New_York:20260519T080000
DTEND;TZID=America/New_York:20260522T133000
DTSTAMP:20260423T074529
CREATED:20260210T200035Z
LAST-MODIFIED:20260210T200037Z
UID:8359-1779177600-1779456600@versability.org
SUMMARY:Forklift Certification Class - May
DESCRIPTION:This hands-on training program prepares people of all abilities with the skills and safety knowledge needed for careers in logistics\, warehousing\, and manufacturing. Participants earn both Forklift Certification and OSHA10 credentials through instructor-led training and real-world equipment experience. \n\n\n\nRegistration is now open for our classes May 19 – 22! \n\n\n\nSpots are limited to 10 participants per class. Sign up using the form and complete your payment to secure your seat. \n\n\n\nLearn more and register here.
URL:https://versability.org/event/forklift-certification-class-may/
LOCATION:VersAbility Hampton Office\, 2520 58th St.\, Hampton\, Virginia\, 23661\, United States
ATTACH;FMTTYPE=image/png:https://versability.org/wp-content/uploads/2026/02/Versability_Forklift_Cover.png
END:VEVENT
BEGIN:VEVENT
DTSTART;TZID=America/New_York:20260623T080000
DTEND;TZID=America/New_York:20260626T133000
DTSTAMP:20260423T074529
CREATED:20260210T200400Z
LAST-MODIFIED:20260210T200401Z
UID:8360-1782201600-1782480600@versability.org
SUMMARY:Forklift Certification Class - June
DESCRIPTION:This hands-on training program prepares people of all abilities with the skills and safety knowledge needed for careers in logistics\, warehousing\, and manufacturing. Participants earn both Forklift Certification and OSHA10 credentials through instructor-led training and real-world equipment experience. \n\n\n\nRegistration is now open for our classes June 23 – 26! \n\n\n\nSpots are limited to 10 participants per class. Sign up using the form and complete your payment to secure your seat. \n\n\n\nLearn more and register here!
URL:https://versability.org/event/forklift-certification-class-june/
LOCATION:VersAbility Hampton Office\, 2520 58th St.\, Hampton\, Virginia\, 23661\, United States
ATTACH;FMTTYPE=image/png:https://versability.org/wp-content/uploads/2026/02/Versability_Forklift_Cover-2.png
END:VEVENT
BEGIN:VEVENT
DTSTART;TZID=America/New_York:20260721T080000
DTEND;TZID=America/New_York:20260724T133000
DTSTAMP:20260423T074529
CREATED:20260210T200732Z
LAST-MODIFIED:20260210T201016Z
UID:8361-1784620800-1784899800@versability.org
SUMMARY:Forklift Certification Class - July
DESCRIPTION:This hands-on training program prepares people of all abilities with the skills and safety knowledge needed for careers in logistics\, warehousing\, and manufacturing. Participants earn both Forklift Certification and OSHA10 credentials through instructor-led training and real-world equipment experience. \n\n\n\nRegistration is now open for our classes July 21 – 24! \n\n\n\nSpots are limited to 10 participants per class. Sign up using the form and complete your payment to secure your seat. \n\n\n\nLearn more and register here!
URL:https://versability.org/event/forklift-certification-class-july/
LOCATION:VersAbility Hampton Office\, 2520 58th St.\, Hampton\, Virginia\, 23661\, United States
ATTACH;FMTTYPE=image/png:https://versability.org/wp-content/uploads/2026/02/Versability_Forklift_Cover-3.png
END:VEVENT
BEGIN:VEVENT
DTSTART;TZID=America/New_York:20260825T080000
DTEND;TZID=America/New_York:20260828T133000
DTSTAMP:20260423T074529
CREATED:20260210T201225Z
LAST-MODIFIED:20260210T201226Z
UID:8363-1787644800-1787923800@versability.org
SUMMARY:Forklift Certification Class - August
DESCRIPTION:This hands-on training program prepares people of all abilities with the skills and safety knowledge needed for careers in logistics\, warehousing\, and manufacturing. Participants earn both Forklift Certification and OSHA10 credentials through instructor-led training and real-world equipment experience. \n\n\n\nRegistration is now open for our classes August 25 – 28! \n\n\n\nSpots are limited to 10 participants per class. Sign up using the form and complete your payment to secure your seat. \n\n\n\nLearn more and register here!
URL:https://versability.org/event/forklift-certification-class-august/
LOCATION:VersAbility Hampton Office\, 2520 58th St.\, Hampton\, Virginia\, 23661\, United States
ATTACH;FMTTYPE=image/png:https://versability.org/wp-content/uploads/2026/02/Versability_Forklift_Cover.png
END:VEVENT
BEGIN:VEVENT
DTSTART;TZID=America/New_York:20260922T080000
DTEND;TZID=America/New_York:20260925T133000
DTSTAMP:20260423T074529
CREATED:20260210T201608Z
LAST-MODIFIED:20260210T201609Z
UID:8364-1790064000-1790343000@versability.org
SUMMARY:Forklift Certification Class - September
DESCRIPTION:This hands-on training program prepares people of all abilities with the skills and safety knowledge needed for careers in logistics\, warehousing\, and manufacturing. Participants earn both Forklift Certification and OSHA10 credentials through instructor-led training and real-world equipment experience. \n\n\n\nRegistration is now open for our classes September 22 – 25! \n\n\n\nSpots are limited to 10 participants per class. Sign up using the form and complete your payment to secure your seat. \n\n\n\nLearn more and register here!
URL:https://versability.org/event/forklift-certification-class-september/
LOCATION:VersAbility Hampton Office\, 2520 58th St.\, Hampton\, Virginia\, 23661\, United States
ATTACH;FMTTYPE=image/png:https://versability.org/wp-content/uploads/2026/02/Versability_Forklift_Cover-2.png
END:VEVENT
BEGIN:VEVENT
DTSTART;TZID=America/New_York:20261020T080000
DTEND;TZID=America/New_York:20261023T133000
DTSTAMP:20260423T074529
CREATED:20260210T201919Z
LAST-MODIFIED:20260210T201920Z
UID:8365-1792483200-1792762200@versability.org
SUMMARY:Forklift Certification Class - October
DESCRIPTION:This hands-on training program prepares people of all abilities with the skills and safety knowledge needed for careers in logistics\, warehousing\, and manufacturing. Participants earn both Forklift Certification and OSHA10 credentials through instructor-led training and real-world equipment experience. \n\n\n\nRegistration is now open for our classes October 20 – 23! \n\n\n\nSpots are limited to 10 participants per class. Sign up using the form and complete your payment to secure your seat. \n\n\n\nLearn more and register here!
URL:https://versability.org/event/forklift-certification-class-october/
LOCATION:VersAbility Hampton Office\, 2520 58th St.\, Hampton\, Virginia\, 23661\, United States
ATTACH;FMTTYPE=image/png:https://versability.org/wp-content/uploads/2026/02/Versability_Forklift_Cover-3.png
END:VEVENT
BEGIN:VEVENT
DTSTART;TZID=America/New_York:20261117T080000
DTEND;TZID=America/New_York:20261120T133000
DTSTAMP:20260423T074529
CREATED:20260210T202317Z
LAST-MODIFIED:20260210T202319Z
UID:8366-1794902400-1795181400@versability.org
SUMMARY:Forklift Certification Class - November
DESCRIPTION:This hands-on training program prepares people of all abilities with the skills and safety knowledge needed for careers in logistics\, warehousing\, and manufacturing. Participants earn both Forklift Certification and OSHA10 credentials through instructor-led training and real-world equipment experience. \n\n\n\nRegistration is now open for our classes November 17 – 20! \n\n\n\nSpots are limited to 10 participants per class. Sign up using the form and complete your payment to secure your seat. \n\n\n\nLearn more and register here!
URL:https://versability.org/event/forklift-certification-class-november/
LOCATION:VersAbility Hampton Office\, 2520 58th St.\, Hampton\, Virginia\, 23661\, United States
ATTACH;FMTTYPE=image/png:https://versability.org/wp-content/uploads/2026/02/Versability_Forklift_Cover.png
END:VEVENT
BEGIN:VEVENT
DTSTART;TZID=America/New_York:20261215T080000
DTEND;TZID=America/New_York:20261218T133000
DTSTAMP:20260423T074529
CREATED:20260210T202608Z
LAST-MODIFIED:20260210T202609Z
UID:8367-1797321600-1797600600@versability.org
SUMMARY:Forklift Certification Class - December
DESCRIPTION:This hands-on training program prepares people of all abilities with the skills and safety knowledge needed for careers in logistics\, warehousing\, and manufacturing. Participants earn both Forklift Certification and OSHA10 credentials through instructor-led training and real-world equipment experience. \n\n\n\nRegistration is now open for our classes December 15 – 18! \n\n\n\nSpots are limited to 10 participants per class. Sign up using the form and complete your payment to secure your seat. \n\n\n\nLearn more and register here!
URL:https://versability.org/event/forklift-certification-class-december/
LOCATION:VersAbility Hampton Office\, 2520 58th St.\, Hampton\, Virginia\, 23661\, United States
ATTACH;FMTTYPE=image/png:https://versability.org/wp-content/uploads/2026/02/Versability_Forklift_Cover-2.png
END:VEVENT
END:VCALENDAR