BEGIN:VCALENDAR
VERSION:2.0
PRODID:-//VersAbility Resources - ECPv6.15.18//NONSGML v1.0//EN
CALSCALE:GREGORIAN
METHOD:PUBLISH
X-WR-CALNAME:VersAbility Resources
X-ORIGINAL-URL:https://versability.org
X-WR-CALDESC:Events for VersAbility Resources
REFRESH-INTERVAL;VALUE=DURATION:PT1H
X-Robots-Tag:noindex
X-PUBLISHED-TTL:PT1H
BEGIN:VTIMEZONE
TZID:America/New_York
BEGIN:DAYLIGHT
TZOFFSETFROM:-0500
TZOFFSETTO:-0400
TZNAME:EDT
DTSTART:20240310T070000
END:DAYLIGHT
BEGIN:STANDARD
TZOFFSETFROM:-0400
TZOFFSETTO:-0500
TZNAME:EST
DTSTART:20241103T060000
END:STANDARD
BEGIN:DAYLIGHT
TZOFFSETFROM:-0500
TZOFFSETTO:-0400
TZNAME:EDT
DTSTART:20250309T070000
END:DAYLIGHT
BEGIN:STANDARD
TZOFFSETFROM:-0400
TZOFFSETTO:-0500
TZNAME:EST
DTSTART:20251102T060000
END:STANDARD
BEGIN:DAYLIGHT
TZOFFSETFROM:-0500
TZOFFSETTO:-0400
TZNAME:EDT
DTSTART:20260308T070000
END:DAYLIGHT
BEGIN:STANDARD
TZOFFSETFROM:-0400
TZOFFSETTO:-0500
TZNAME:EST
DTSTART:20261101T060000
END:STANDARD
END:VTIMEZONE
BEGIN:VEVENT
DTSTART;TZID=America/New_York:20251211T100000
DTEND;TZID=America/New_York:20251211T140000
DTSTAMP:20260423T151652
CREATED:20251203T205047Z
LAST-MODIFIED:20251208T204259Z
UID:8239-1765447200-1765461600@versability.org
SUMMARY:One City Job Fair
DESCRIPTION:Date: Thursday\, Dec 11thTime: 10AM – 2PM \n\n\n\nLocation:Denbigh Community Center15198 Warwick BoulevardNewport News\, VA 23608 \n\n\n\nOne City Celebration Community Empowerment Job Fair \n\n\n\nVersAbility Resources is proud to participate in the One City Celebration Community Empowerment Job Fair\, a regional hiring event designed to connect talented job seekers with meaningful employment opportunities throughout Hampton Roads. \n\n\n\nThis free\, community wide job fair brings together more than 60 employers representing hundreds of open positions across a wide range of industries. Attendees will have the chance to meet hiring teams\, learn about available roles\, and explore career paths that support personal growth and long-term stability. \n\n\n\nAt the VersAbility booth\, job seekers can: \n\n\n\n\nLearn about open positions across our organization\n\n\n\nDiscover career opportunities that empower people with disabilities\n\n\n\nMeet members of our team and ask questions about our hiring process\n\n\n\nFind a role that aligns with their skills\, passions and goals\n\n\n\n\nWhether you’re looking to begin a new career\, advance in your field\, or find work that makes a real difference in your community\, we invite you to stop by and connect with us. \n\n\n\nThis event is open to all job seekers. \n\n\n\n\nVIEW PDF
URL:https://versability.org/event/one-city-job-fair/
LOCATION:Denbigh Community Center\, 15198 Warwick Boulevard\, Newport News\, Virginia\, 23608\, United States
ATTACH;FMTTYPE=image/png:https://versability.org/wp-content/uploads/2025/12/Versability_Job-Fair_Event-Cover.png
END:VEVENT
END:VCALENDAR