BEGIN:VCALENDAR
VERSION:2.0
PRODID:-//VersAbility Resources - ECPv6.15.18//NONSGML v1.0//EN
CALSCALE:GREGORIAN
METHOD:PUBLISH
X-WR-CALNAME:VersAbility Resources
X-ORIGINAL-URL:https://versability.org
X-WR-CALDESC:Events for VersAbility Resources
REFRESH-INTERVAL;VALUE=DURATION:PT1H
X-Robots-Tag:noindex
X-PUBLISHED-TTL:PT1H
BEGIN:VTIMEZONE
TZID:America/New_York
BEGIN:DAYLIGHT
TZOFFSETFROM:-0500
TZOFFSETTO:-0400
TZNAME:EDT
DTSTART:20250309T070000
END:DAYLIGHT
BEGIN:STANDARD
TZOFFSETFROM:-0400
TZOFFSETTO:-0500
TZNAME:EST
DTSTART:20251102T060000
END:STANDARD
BEGIN:DAYLIGHT
TZOFFSETFROM:-0500
TZOFFSETTO:-0400
TZNAME:EDT
DTSTART:20260308T070000
END:DAYLIGHT
BEGIN:STANDARD
TZOFFSETFROM:-0400
TZOFFSETTO:-0500
TZNAME:EST
DTSTART:20261101T060000
END:STANDARD
BEGIN:DAYLIGHT
TZOFFSETFROM:-0500
TZOFFSETTO:-0400
TZNAME:EDT
DTSTART:20270314T070000
END:DAYLIGHT
BEGIN:STANDARD
TZOFFSETFROM:-0400
TZOFFSETTO:-0500
TZNAME:EST
DTSTART:20271107T060000
END:STANDARD
END:VTIMEZONE
BEGIN:VEVENT
DTSTART;TZID=America/New_York:20260303T090000
DTEND;TZID=America/New_York:20260303T160000
DTSTAMP:20260423T095548
CREATED:20260210T190754Z
LAST-MODIFIED:20260210T190838Z
UID:8351-1772528400-1772553600@versability.org
SUMMARY:Military Community Employer Networking Event
DESCRIPTION:Every Tuesday\, military members and their families are invited to explore job opportunities throughout the Hampton Roads area and connect with employers in a more personal\, one-on-one setting.
URL:https://versability.org/event/military-community-employer-networking-event/
LOCATION:Hampton Roads Veterans Employment Center\, 600 Thimble Shoals Blvd\, Newport News\, Virginia\, 23606
CATEGORIES:Job Fairs
ATTACH;FMTTYPE=image/png:https://versability.org/wp-content/uploads/2026/02/Veterans-Employment-Center-3.png
END:VEVENT
BEGIN:VEVENT
DTSTART;TZID=America/New_York:20260305T170000
DTEND;TZID=America/New_York:20260305T200000
DTSTAMP:20260423T095548
CREATED:20260130T145214Z
LAST-MODIFIED:20260211T133258Z
UID:8299-1772730000-1772740800@versability.org
SUMMARY:Breaking Down Barriers in Tech Employment
DESCRIPTION:Breaking Down Barriers in Tech Employment brings together business leaders\, hiring managers\, technologists and community advocates for an evening focused on expanding access\, opportunity and diversity in the tech workforce. \n\n\n\nThe event features a professional networking hour\, action-focused dialogue around inclusive hiring and workforce development\, and a moderated panel discussion with regional leaders\, including: \n\n\n\n\nShawn Avery\, President & CEO\, Hampton Roads Workforce Council\n\n\n\nJohnny Garcia\, Ph.D.\, Chief Executive Officer\, SimIS\, Inc.\n\n\n\nKasia Grzelkowski\, President & CEO\, VersAbility Resources\n\n\n\n\nModerator: Blair Durham\, Co-Founder & CEO\, Black BRANDEmcee: Francesca Garcia Moncion\, Board Member\, Hispanic Chamber of Coastal Virginia \n\n\n\nAttendees will gain insight into the opportunities and obstacles shaping Hampton Roads’ tech landscape\, while learning how certifications\, apprenticeships\, transferable skills and workforce partnerships are helping create more accessible pathways into tech careers. \n\n\n\nLearn more about the event and sponsorship opportunities here.
URL:https://versability.org/event/breaking-down-barriers-in-tech-employment/
LOCATION:River’s Casino\, 3630 Portsmouth Blvd\, Portsmouth\, Virginia\, 23701\, United States
ATTACH;FMTTYPE=image/png:https://versability.org/wp-content/uploads/2026/01/Versability_Breakin-Down-Barriers-Event_Cover_v2.png
END:VEVENT
BEGIN:VEVENT
DTSTART;TZID=America/New_York:20260306T100000
DTEND;TZID=America/New_York:20260306T120000
DTSTAMP:20260423T095548
CREATED:20260205T162012Z
LAST-MODIFIED:20260211T180628Z
UID:8317-1772791200-1772798400@versability.org
SUMMARY:Williamsburg House of Mercy Job Fair
DESCRIPTION:5th Annual Job Fair
URL:https://versability.org/event/williamsburg-house-of-mercy-job-fair/
LOCATION:Williamsburg House of Mercy\, 10 Harrison Avenue\, Williamsburg\, Virginia\, 23185\, United States
CATEGORIES:Job Fairs
ATTACH;FMTTYPE=image/png:https://versability.org/wp-content/uploads/2026/02/General-3.png
END:VEVENT
BEGIN:VEVENT
DTSTART;TZID=America/New_York:20260318T130000
DTEND;TZID=America/New_York:20260318T160000
DTSTAMP:20260423T095548
CREATED:20260205T163557Z
LAST-MODIFIED:20260205T163713Z
UID:8321-1773838800-1773849600@versability.org
SUMMARY:2026 Annual Community Resource Refresh Forum
DESCRIPTION:Join us for community presentations including Social Services & County updates. \n\n\n\nLooking to connect and learn? Swing by the YPDSS Community Resource Forum and meet others in person for a fun\, informal gathering. Discover new resources\, share ideas\, and build community vibes together. Don’t miss out on this great opportunity to engage and get involved face-to-face! \n\n\n\nREGISTER NOW \n\n\n\nFor additional information\, to register as a vendor or attendee for this event\, please call (757) 890-3944 or email Denise.Hall@yorkcounty.gov
URL:https://versability.org/event/2026-annual-community-resource-refresh-forum/
LOCATION:St. Luke’s United Methodist Church\, 300 Ella Taylor Road\, Yorktown\, Virginia\, 23692\, United States
CATEGORIES:Job Fairs
ATTACH;FMTTYPE=image/jpeg:https://versability.org/wp-content/uploads/2026/02/2026-Community-Resource-Refresh-Forum-800-edited.jpg
END:VEVENT
BEGIN:VEVENT
DTSTART;TZID=America/New_York:20260324T080000
DTEND;TZID=America/New_York:20260327T133000
DTSTAMP:20260423T095548
CREATED:20260210T194810Z
LAST-MODIFIED:20260210T195608Z
UID:8355-1774339200-1774618200@versability.org
SUMMARY:Forklift Certification Class - March
DESCRIPTION:This hands-on training program prepares people of all abilities with the skills and safety knowledge needed for careers in logistics\, warehousing\, and manufacturing. Participants earn both Forklift Certification and OSHA10 credentials through instructor-led training and real-world equipment experience. \n\n\n\nRegistration is now open for our classes March 24 – 27! \n\n\n\nSpots are limited to 10 participants per class. Sign up using the form and complete your payment to secure your seat. \n\n\n\nLearn more and register here.
URL:https://versability.org/event/forklift-certification-class-march/
LOCATION:VersAbility Hampton Office\, 2520 58th St.\, Hampton\, Virginia\, 23661\, United States
ATTACH;FMTTYPE=image/png:https://versability.org/wp-content/uploads/2026/02/Versability_Forklift_Cover-2.png
END:VEVENT
BEGIN:VEVENT
DTSTART;TZID=America/New_York:20260324T110000
DTEND;TZID=America/New_York:20260324T130000
DTSTAMP:20260423T095548
CREATED:20260310T200108Z
LAST-MODIFIED:20260311T235516Z
UID:8387-1774350000-1774357200@versability.org
SUMMARY:Cloverleaf Grand Reopening Celebration
DESCRIPTION:You’re Invited to Celebrate Community Living in Action\n\n\n\n\n\nFor decades\, VersAbility Resources has been committed to ensuring individuals with disabilities have the opportunity to live full\, meaningful lives in homes rooted in dignity\, independence and belonging. \n\n\n\nAfter thoughtful renovations and updates\, we are proud to reopen Cloverleaf House — a place where community living isn’t just a philosophy\, but a daily reality. \n\n\n\nThis celebration marks more than refreshed walls and new finishes. It represents renewed commitment to accessible housing\, individualized support and a future filled with opportunity for the residents who call Cloverleaf home. \n\n\n\nWe invite you to join us as we celebrate this next chapter together. \n\n\n\n\nSEE PHOTOS\n\n\n\n\n\n\n\n\nEvent Details\n\n\n\nTuesday March 24\, 202611 a.m.Cloverleaf Grand Reopening Celebration898 Cloverleaf LaneNewport News\, Virginia 23601 \n\n\n\nShort program begins at 11 a.m.Ribbon cutting to followLight refreshments will be served \n\n\n\nGuests are invited to tour the home at their leisure following the program. Out of respect for residents\, please do not enter individual bedrooms. \n\n\n\n\n\n\n\nQuestions?\n\n\n\nPlease contact:Rosilyn Dodson757-732-1767rdodson@versability.org \n\n\n\n\n\n\nRSVP\n\n\n\nKindly respond below to let us know you’ll be joining us.\n\n\nPlease enable JavaScript in your browser to complete this form.Please enable JavaScript in your browser to complete this form.Name *FirstLastEmail *Phone Number		\n			yourself) accommodations? Email\n			\n		\n		Organization (if applicable)Will you be attending?YesNoNumber of Guests Attending (including yourself)12345+Do you require any accommodations?RSVP Now
URL:https://versability.org/event/cloverleaf-grand-reopening-celebration/
ATTACH;FMTTYPE=image/jpeg:https://versability.org/wp-content/uploads/2026/03/versability-cloverleaf-03-09-2026-25.jpg
END:VEVENT
END:VCALENDAR